BEGIN:VCALENDAR
VERSION:2.0
PRODID:-//Ranggo Magazine - ECPv6.15.20//NONSGML v1.0//EN
CALSCALE:GREGORIAN
METHOD:PUBLISH
X-WR-CALNAME:Ranggo Magazine
X-ORIGINAL-URL:https://www.myranggo.com
X-WR-CALDESC:Events for Ranggo Magazine
REFRESH-INTERVAL;VALUE=DURATION:PT1H
X-Robots-Tag:noindex
X-PUBLISHED-TTL:PT1H
BEGIN:VTIMEZONE
TZID:Asia/Kuala_Lumpur
BEGIN:STANDARD
TZOFFSETFROM:+0800
TZOFFSETTO:+0800
TZNAME:+08
DTSTART:20240101T000000
END:STANDARD
END:VTIMEZONE
BEGIN:VEVENT
DTSTART;TZID=Asia/Kuala_Lumpur:20251029T190000
DTEND;TZID=Asia/Kuala_Lumpur:20251031T230000
DTSTAMP:20260421T205539
CREATED:20251009T030252Z
LAST-MODIFIED:20251009T030252Z
UID:39731-1761764400-1761951600@www.myranggo.com
SUMMARY:Lamay in Malaya - Quezon City
DESCRIPTION:Lamay in Manila: An Immersive Promenade Theater Experience\nDate: October 29\, 30 & 31 at 7:00 PM\nVenue: Coconut House\, 34 Malaya\, Dilliman\, Quezon City \nWhat happens when loss\, laughter\, and the afterlife all meet in one strange night? Lamay in Malaya takes you through a journey that’s heartfelt\, absurd\, and unexpectedly funny — all set in a once-bustling restaurant. \nThis isn’t your usual sit-down theater. It’s promenade style — which means ikaw mismo ang gagalaw! Follow the story from the kitchen to the bar\, to the garden\, and even hop on an actual L300 van (yes\, aandar talaga siya 👀). \nBe among the FIRST to experience Lamay in Malaya—an immersive promenade theater experience like no other. \nTickets P800 with snacks & drinks \nTo book tickets\n1.) Click this link: to https://forms.gle/bxkPnTeekcsf6rpK9\n2.) Fill out the form and pay via bank transfer or GCash.\n3.) Submit the form and wait for the confirmation email. \nJoin for a night where memory\, ritual\, and performance come alive. \nDisclaimer: No special discounts applied. (SC\, PWD or Student) \nOrganiser: KOLAB Co.
URL:https://www.myranggo.com/events/lamay-in-malaya/
LOCATION:Coconut House\, 34 Malaya\, Dilliman\, Quezon City\, Manila\, Philippines
CATEGORIES:Arts & Creativity,Music
ATTACH;FMTTYPE=image/jpeg:https://www.myranggo.com/wp-content/uploads/2025/10/Lamay-in-Malaya.jpg
END:VEVENT
BEGIN:VEVENT
DTSTART;TZID=Asia/Kuala_Lumpur:20251012T130000
DTEND;TZID=Asia/Kuala_Lumpur:20251012T150000
DTSTAMP:20260421T205539
CREATED:20251010T055750Z
LAST-MODIFIED:20251010T055750Z
UID:39766-1760274000-1760281200@www.myranggo.com
SUMMARY:Kulay-Ani: Natural Dye Print Jam - Makati
DESCRIPTION:Kulay-Ani: Natural Dye Print Jam is a HABI Workshop with “Teacher Vanni” Liwanag-Librero\nDate: October 12\, 2025\, 1:00 – 3:00 PM and 4:00 – 6:00 PM\nVenue: SPACE at One Ayala\, Level 5\, Function Room\nCost: Php 2\,000 \nA hands-on Silkscreen printing session using natural pigments from Turmeric\, Atsuete\, Talisay\, and Sappanwood. \nParent and child teams can share a fun experience together chopping and grinding plant material to extract natural dyes\, then print on textiles with designs inspired by Philippine biodiversity. \nTheir handprinted works will be kept together in an accordion-style print art keeper to inspire more nature-based explorations. \nReserve Your Spot Here
URL:https://www.myranggo.com/events/kulay-ani/
LOCATION:SPACE at One Ayala\, Level 5\, One Ayala\, 1 Ayala Ave\,\, Makati\, Metro Manila\, Philippines
CATEGORIES:Arts & Creativity
ATTACH;FMTTYPE=image/jpeg:https://www.myranggo.com/wp-content/uploads/2025/10/Habi-Workshop.jpg
END:VEVENT
BEGIN:VEVENT
DTSTART;TZID=Asia/Kuala_Lumpur:20250629T150000
DTEND;TZID=Asia/Kuala_Lumpur:20250629T180000
DTSTAMP:20260421T205539
CREATED:20250611T042032Z
LAST-MODIFIED:20250611T045630Z
UID:38588-1751209200-1751220000@www.myranggo.com
SUMMARY:Beaded Bloom Bouquet Workshop
DESCRIPTION:Beaded Bloom Bouquet Workshop\nDate: 29 June 2025\, 3-6pm\nVenue: Spresso Cafe\, 97 C. Raymundo\, Caniogan\, Pasig \nHandcraft your own everlasting bouquet using the delicate art of French beading. Learn to shape glass beads into floral forms and arrange a one-of-a-kind creation that never wilts. \nPrice: P1\,200 (inclusive of P300 food/drinks voucher) \nDM Spresso Cafe to save your spot in your preferred workshop. 💬🎨 \nEach session comes with a free cafe treat — because crafting + coffee = the perfect weekend combo.
URL:https://www.myranggo.com/events/beaded-bloom-bouquet-workshop/
LOCATION:Spresso Cafe\, 97 C. Raymundo\, Caniogan\, Pasig\, Manila\, Philippines
CATEGORIES:Arts & Creativity
ATTACH;FMTTYPE=image/jpeg:https://www.myranggo.com/wp-content/uploads/2025/06/Beaded-Bloom-Workshop.jpg
ORGANIZER;CN="Spresso Cafe":MAILTO:hello@spressocafe.ph
END:VEVENT
BEGIN:VEVENT
DTSTART;TZID=Asia/Kuala_Lumpur:20250629T130000
DTEND;TZID=Asia/Kuala_Lumpur:20250629T150000
DTSTAMP:20260421T205539
CREATED:20250611T045554Z
LAST-MODIFIED:20250611T045555Z
UID:38596-1751202000-1751209200@www.myranggo.com
SUMMARY:DIY Denim Patchwork Bag Workshop
DESCRIPTION:DIY Denim Patchwork Bag Workshop \nDate: 29 June 2025\, 1-3pm\nVenue: Spresso Cafe\, 97 C. Raymundo\, Caniogan\, Pasig \nUpcycle old denim into a chic\, custom tote with fun patchwork\, stitching and embellishments. \nLearn the basics and leave with a bag that’s totally your own. \nPrice: P1\,200 (inclusive of P300 food/drinks voucher) \nDM Spresso Cafe to save your spot in your preferred workshop. 💬🎨 \nEach session comes with a free cafe treat — because crafting + coffee = the perfect weekend combo.
URL:https://www.myranggo.com/events/diy-denim-patchwork-bag-workshop/
LOCATION:Spresso Cafe\, 97 C. Raymundo\, Caniogan\, Pasig\, Manila\, Philippines
CATEGORIES:Arts & Creativity
ATTACH;FMTTYPE=image/jpeg:https://www.myranggo.com/wp-content/uploads/2025/06/DIY-Demim-Patch-Bag-Workshop.jpg
ORGANIZER;CN="Spresso Cafe":MAILTO:hello@spressocafe.ph
END:VEVENT
BEGIN:VEVENT
DTSTART;TZID=Asia/Kuala_Lumpur:20250622T110000
DTEND;TZID=Asia/Kuala_Lumpur:20250622T140000
DTSTAMP:20260421T205539
CREATED:20250611T041728Z
LAST-MODIFIED:20250611T045707Z
UID:38585-1750590000-1750600800@www.myranggo.com
SUMMARY:Glass Painting Workshop
DESCRIPTION:Glass Painting Workshop\nDate: 22 June 2025\, 11am-2pm \nVenue: Spresso Cafe\, 97 C. Raymundo\, Caniogan\, Pasig \nExperience the beauty and magical feeling of painting on glass or crystals\, brought to your by Glassicology by Fchel. \nThis workshop is good for beginners who are 13+ Years and up. \nLearn glass painting techniques and the right materials in glass painting. \nPrice: 2\,000 (inclusive of P300 food/drinks voucher) \nDM Spresso Cafe to save your spot in your preferred workshop. 💬🎨 \nEach session comes with a free cafe treat — because crafting + coffee = the perfect weekend combo.
URL:https://www.myranggo.com/events/glass-painting-workshop/
LOCATION:Spresso Cafe\, 97 C. Raymundo\, Caniogan\, Pasig\, Manila\, Philippines
CATEGORIES:Arts & Creativity
ATTACH;FMTTYPE=image/jpeg:https://www.myranggo.com/wp-content/uploads/2025/06/Glass-Painting-Workshop.jpg
ORGANIZER;CN="Spresso Cafe":MAILTO:hello@spressocafe.ph
END:VEVENT
BEGIN:VEVENT
DTSTART;TZID=Asia/Kuala_Lumpur:20250615T150000
DTEND;TZID=Asia/Kuala_Lumpur:20250615T180000
DTSTAMP:20260421T205539
CREATED:20250611T034233Z
LAST-MODIFIED:20250611T034233Z
UID:38569-1749999600-1750010400@www.myranggo.com
SUMMARY:Miniature Motorheads Landscape Terrarium Workshop
DESCRIPTION:Miniature Motorheads Landscape Terrarium Workshop\nDate: 15 June 2025\, 3pm \nVenue: 2nd Level The Atrium\, The Podium Mall (SM)\, 12 ADB Ave\, Ortigas Center\, Mandaluyong City\, 1550 Metro Manila \nPrice: Glass House P5\,500 (W15cm\, L20cm\, H20cm)\nLarge Bowl P3\,500 (12x14cm) \nBuild a miniature world built for speed. Bring your own toy car/model or be surprised by the organisers with a random one – then design the perfect landscape to match \nLimited slots available – message them to reserve yours today.
URL:https://www.myranggo.com/events/miniature-motorheads-landscape-terrarium-workshop/
LOCATION:The Podium Mall\, 2nd Level The Atrium\, The Podium Mall (SM)\, 12 ADB Ave\, Ortigas Center\, Mandaluyong\, Manila\, 1550\, Philippines
CATEGORIES:Arts & Creativity
ATTACH;FMTTYPE=image/jpeg:https://www.myranggo.com/wp-content/uploads/2025/06/Moss-Escape-Mini-Motorhead-Event.jpg
ORGANIZER;CN="Moss Escape":MAILTO:mossescape@gmail.com
END:VEVENT
BEGIN:VEVENT
DTSTART;TZID=Asia/Kuala_Lumpur:20250615T110000
DTEND;TZID=Asia/Kuala_Lumpur:20250615T160000
DTSTAMP:20260421T205539
CREATED:20250611T034629Z
LAST-MODIFIED:20250611T034629Z
UID:38572-1749985200-1750003200@www.myranggo.com
SUMMARY:Miniature Fantasy Land Terrarium Workshop
DESCRIPTION:Miniature Fantasy Land Terrarium Workshop\nDate: 15 June 11am \nVenue: 2nd Level The Atrium\, The Podium Mall (SM)\, 12 ADB Ave\, Ortigas Center\, Mandaluyong City\, 1550 Metro Manila \nChoose from the organiser’s whimsical figurines like Totoro\, or bring your own favourite toy/figurine to create a miniature landscape where your stories come to life. \nPrices: Glass House P5\,500 (W15cm\, L20cm\, H20cm)\nLarge Bowl P3\,500 (12x14cm)\nSmall Bowl P2\,500 (9x11cm) \nLimited slots available – message them to reserve yours today.
URL:https://www.myranggo.com/events/miniature-fantasy-land-terrarium-workshop/
LOCATION:The Podium Mall\, 2nd Level The Atrium\, The Podium Mall (SM)\, 12 ADB Ave\, Ortigas Center\, Mandaluyong\, Manila\, 1550\, Philippines
CATEGORIES:Arts & Creativity
ATTACH;FMTTYPE=image/jpeg:https://www.myranggo.com/wp-content/uploads/2025/06/Moss-Escape-The-Island-Event.jpg
ORGANIZER;CN="Moss Escape":MAILTO:mossescape@gmail.com
END:VEVENT
BEGIN:VEVENT
DTSTART;TZID=Asia/Kuala_Lumpur:20250614T150000
DTEND;TZID=Asia/Kuala_Lumpur:20250614T180000
DTSTAMP:20260421T205539
CREATED:20250611T034932Z
LAST-MODIFIED:20250611T034933Z
UID:38575-1749913200-1749924000@www.myranggo.com
SUMMARY:Miniature Zen Garden Terrarium Workshop
DESCRIPTION:Miniature Zen Garden Terrarium Workshop\nDate: 14 June 2025\, 3pm \nVenue: 2nd Level The Atrium\, The Podium Mall (SM)\, 12 ADB Ave\, Ortigas Center\, Mandaluyong City\, 1550 Metro Manila \nDesign a tranquil miniature world featuring a Toro Lantern or Torli gate. A space for stillness\, balance and quiet reflection \nPrice: Glass Jar P4\,500 (H20.5cm\, D:14.5cm)\nLarge Bowl P3\,500 (12x14cm)\nCube P2\,500 (10x10cm) \nLimited slots available – message them to reserve yours today.
URL:https://www.myranggo.com/events/miniature-zen-garden-terrarium-workshop/
LOCATION:The Podium Mall\, 2nd Level The Atrium\, The Podium Mall (SM)\, 12 ADB Ave\, Ortigas Center\, Mandaluyong\, Manila\, 1550\, Philippines
CATEGORIES:Arts & Creativity
ATTACH;FMTTYPE=image/jpeg:https://www.myranggo.com/wp-content/uploads/2025/06/Moss-Escape-Zen-Garden.jpg
ORGANIZER;CN="Moss Escape":MAILTO:mossescape@gmail.com
END:VEVENT
BEGIN:VEVENT
DTSTART;TZID=Asia/Kuala_Lumpur:20250614T130000
DTEND;TZID=Asia/Kuala_Lumpur:20250614T150000
DTSTAMP:20260421T205539
CREATED:20250611T041448Z
LAST-MODIFIED:20250611T045747Z
UID:38582-1749906000-1749913200@www.myranggo.com
SUMMARY:Floral Embroidery Workshop
DESCRIPTION:Floral Embroidery Workshop\nDate: 14 June 2025. 1-3pm \nVenue: Spresso Cafe\, 97 C. Raymundo\, Caniogan\, Pasig \nLearn how to arrange dried flowers on tulle to create delicate\, ethereal designs. \nThis hands-on workshop blends nature and texture for a one-of-a-kind floral art piece \nPrice: 1\,800 (inclusive of P300 food/drinks voucher) \nDM Spresso Cafe to save your spot in your preferred workshop. 💬🎨 \nEach session comes with a free cafe treat — because crafting + coffee = the perfect weekend combo.
URL:https://www.myranggo.com/events/floral-embroidery-workshop/
LOCATION:Spresso Cafe\, 97 C. Raymundo\, Caniogan\, Pasig\, Manila\, Philippines
CATEGORIES:Arts & Creativity
ATTACH;FMTTYPE=image/jpeg:https://www.myranggo.com/wp-content/uploads/2025/06/Floral-Embroidery-Workshop.jpg
ORGANIZER;CN="Spresso Cafe":MAILTO:hello@spressocafe.ph
END:VEVENT
BEGIN:VEVENT
DTSTART;TZID=Asia/Kuala_Lumpur:20250614T110000
DTEND;TZID=Asia/Kuala_Lumpur:20250614T163000
DTSTAMP:20260421T205539
CREATED:20250611T033936Z
LAST-MODIFIED:20250611T034345Z
UID:38565-1749898800-1749918600@www.myranggo.com
SUMMARY:Miniature Island Landscape Terrarium Workshop
DESCRIPTION:Miniature Island Landscape Terrarium Workshop\nDate: 14 June\, 11am\nVenue: 2nd Level The Atrium\, The Podium Mall (SM)\, 12 ADB Ave\, Ortigas Center\, Mandaluyong City\, 1550 Metro Manila \nCreate your own peaceful escape – a lush miniature world that feels like your own private island.\nLimited slots available – message them to reserve yours today. \nP2\,900 (H18cm\, D:13cm)
URL:https://www.myranggo.com/events/miniature-island-landscape-terrarium-workshop/
LOCATION:The Podium Mall\, 2nd Level The Atrium\, The Podium Mall (SM)\, 12 ADB Ave\, Ortigas Center\, Mandaluyong\, Manila\, 1550\, Philippines
CATEGORIES:Arts & Creativity
ATTACH;FMTTYPE=image/jpeg:https://www.myranggo.com/wp-content/uploads/2025/06/Moss-Escape-The-Island-Event.jpg
ORGANIZER;CN="Moss Escape":MAILTO:mossescape@gmail.com
END:VEVENT
BEGIN:VEVENT
DTSTART;TZID=Asia/Kuala_Lumpur:20250612T130000
DTEND;TZID=Asia/Kuala_Lumpur:20250612T150000
DTSTAMP:20260421T205539
CREATED:20250611T041204Z
LAST-MODIFIED:20250611T045940Z
UID:38577-1749733200-1749740400@www.myranggo.com
SUMMARY:Decorate your own Cookie & Cookie Jar Workshop
DESCRIPTION:Decorate your own Cookie & Cookie Jar\nDate: 12 June 2025\, 1pm\nVenue: Spresso Cafe\, 97 C. Raymundo\, Caniogan\, Pasig \nThis Workshop is Exclusively for Children \nPersonalize your own cookie jar and decorate donut-inspired cookies with icing and toppings \nPrice P850 (inclusive of P200 food/drinks voucher) \nDM Spresso Cafe to save your spot in your preferred workshop. 💬🎨 \nEach session comes with a free cafe treat — because crafting + coffee = the perfect weekend combo.
URL:https://www.myranggo.com/events/decorate-your-own-cookie-cookie-jar-workshop/
LOCATION:Spresso Cafe\, 97 C. Raymundo\, Caniogan\, Pasig\, Manila\, Philippines
CATEGORIES:Arts & Creativity
ATTACH;FMTTYPE=image/jpeg:https://www.myranggo.com/wp-content/uploads/2025/06/Spresso-Cafe-Cookie-Jar.jpg
ORGANIZER;CN="Spresso Cafe":MAILTO:hello@spressocafe.ph
END:VEVENT
END:VCALENDAR