BEGIN:VCALENDAR
VERSION:2.0
PRODID:-//Ranggo Magazine - ECPv6.15.20//NONSGML v1.0//EN
CALSCALE:GREGORIAN
METHOD:PUBLISH
X-WR-CALNAME:Ranggo Magazine
X-ORIGINAL-URL:https://www.myranggo.com
X-WR-CALDESC:Events for Ranggo Magazine
REFRESH-INTERVAL;VALUE=DURATION:PT1H
X-Robots-Tag:noindex
X-PUBLISHED-TTL:PT1H
BEGIN:VTIMEZONE
TZID:Asia/Kuala_Lumpur
BEGIN:STANDARD
TZOFFSETFROM:+0800
TZOFFSETTO:+0800
TZNAME:+08
DTSTART:20240101T000000
END:STANDARD
END:VTIMEZONE
BEGIN:VEVENT
DTSTART;TZID=Asia/Kuala_Lumpur:20251031T200000
DTEND;TZID=Asia/Kuala_Lumpur:20251101T020000
DTSTAMP:20260422T001305
CREATED:20251010T053435Z
LAST-MODIFIED:20251010T065553Z
UID:39759-1761940800-1761962400@www.myranggo.com
SUMMARY:Hangar 18 Halloween Ball - Ermita
DESCRIPTION:Hangar 18 Halloween Ball – Ermita \nDate: October 31 from 8.30pm\nVenue: Hangar 18 (Formerly Dakota Cabin)\, Casa Tesoro Building\, 1335 Mabini Street\, Ermita Manila \nHangar 18 invites you to save the date for a Halloween Ball extravaganza like no other on October 31. \nPrepare Your Costumes for a chance to win prizes sponsored by CUERVO \nFollow Hangar 18 for further announcements on\nFacebook\,\n@hangar18manila on IG\, and\n@hangar18manila on TikTok for more updates on all upcoming shenanigans.
URL:https://www.myranggo.com/events/hangar-18-halloween/
LOCATION:Hangar 18\, Casa Tesoro Building\, 1335 Mabini Street\, Ermita\, Malate\, Manila\, Philippines
CATEGORIES:Music,National Holiday
ATTACH;FMTTYPE=image/png:https://www.myranggo.com/wp-content/uploads/2025/10/Hangar-18-Halloween-Ball-1.png
END:VEVENT
BEGIN:VEVENT
DTSTART;TZID=Asia/Kuala_Lumpur:20251031T180000
DTEND;TZID=Asia/Kuala_Lumpur:20251031T230000
DTSTAMP:20260422T001305
CREATED:20251010T065110Z
LAST-MODIFIED:20251010T065110Z
UID:39778-1761933600-1761951600@www.myranggo.com
SUMMARY:Charlie And The Chocolate Factory - Boracay
DESCRIPTION:Charlie And The Chocolate Factory-inspired Halloween\nDate: 31 October 2025 6pm-10pm\nVenue: Hakuna Matata Boracay\, Mandarin Nest\, Station 2 Beachfront\, Boracay\, Malay\, Aklan \nGolden tickets\, sweet surprises\, and a dash of spooky fun!\nJoin Hakuna Matata for a Charlie and the Chocolate Factory-inspired Halloween\, where playful thrills and sweet surprises meet island vibes for an unforgettable night. \n5.30-6pm: Sunset Halloween and Dance Performances\n6-6.30pm: Best In Costume Contest Registration – kids in costume get loot bags for trick-or-treating\, adults enjoy a complimentary cocktail or mocktail.\n7-8pm: Trick\, Treat & Golden Beats\, Dinner with live entertainment. Phot ops and Dance Performances. Kids dessert offers a chance to win a P1\,000 Golden Gift Certificate\n8-10pm: Costume Parade & Contest\, Winners & Awarding Ceremony. Group Halloween & Viral Dance with Hosts & Guests.\n6-11pm: Highlights of the Night\, Live singer performance at the Tiki Bar\, Live DJ at the Hakuna Matata \nFor inquiries\, please call: M: 09171270238\nE: dine@mandarinpremier.com\nOr visit us at Mandarin Nest\, Station 2 Beachfront\, Boracay\, Malay\, Aklan. \n 
URL:https://www.myranggo.com/events/charlie-and-the-chocolate-factory/
LOCATION:Hakuna Matata Boracay\, Mandarin Nest\, Station 2 White Beach\, Boracay\, Malay Aklan\, Philippines
CATEGORIES:National Holiday
ATTACH;FMTTYPE=image/jpeg:https://www.myranggo.com/wp-content/uploads/2025/10/Charlie-and-the-Chocolate-Factory-Hakuna-Matata-Halloween.jpg
END:VEVENT
END:VCALENDAR